BEGIN:VCALENDAR
VERSION:2.0
PRODID:-//hacksw/handcal//NONSGML v1.0//EN
BEGIN:VEVENT
UID:55d7d6db38a12aa3b2f9ad73ad664763
DTSTAMP:20260419T124759Z

DTSTART:20130214T190000
DTEND:20130214T210000
SUMMARY:Prof. Dr. Thomas Schmitt - “Logga vom Hoggar“
DESCRIPTION:Die DELATTINIA bietet im Jahr 2013 die folgenden Veranstaltungen an. \n\nDie Vorträge finden in der Lampenstube bzw. Besprechungsraum 1. Etage  im Zechengebäude des Bergwerks Reden in Landsweiler-Reden statt. Beginn: jeweils 19.00 Uhr. Der Eintritt zu allen Veranstaltungen ist frei. Selbstverständlich sind auch Gäste willkommen, die nicht Mitglied in der DELATTINIA sind.

X-ALT-DESC;FMTTYPE=text/html:<!DOCTYPE HTML PUBLIC "-//W3C//DTD HTML 3.2//EN">\n<HTML>\n<HEAD>\n<META NAME="Generator" CONTENT="MS Exchange Server version 08.00.0681.000">\n<TITLE></TITLE>\n</HEAD>\n<BODY>\n<!-- Converted from text/rtf format -->\n\nDie DELATTINIA bietet im Jahr 2013 die folgenden Veranstaltungen an. <br /><br />Die Vorträge finden in der Lampenstube bzw. Besprechungsraum 1. Etage  im Zechengebäude des Bergwerks Reden in Landsweiler-Reden statt. Beginn: jeweils 19.00 Uhr. Der Eintritt zu allen Veranstaltungen ist frei. Selbstverständlich sind auch Gäste willkommen, die nicht Mitglied in der DELATTINIA sind.\n\n</BODY>\n</HTML>

LOCATION:Landsweiler-Reden, Am Bergwerk Reden
END:VEVENT

END:VCALENDAR
